BEGIN:VCALENDAR
VERSION:2.0
PRODID:icalendar-ruby
CALSCALE:GREGORIAN
METHOD:PUBLISH
BEGIN:VEVENT
DTSTAMP:20260420T133208Z
UID:24-328174@devinechristianchurch.com
DTSTART:20260425T133000Z
DTEND:20260425T153000Z
CLASS:PUBLIC
CREATED:20260402T143924
DESCRIPTION:
LAST-MODIFIED:20260402T143924
LOCATION:1479 CR 5710 Devine TX
SUMMARY:Men's Prayer Breakfast
URL;VALUE=URI:https://devinechristianchurch.com/events/mens-prayer-breakfas
 t--24/2026-04-25
ATTACH;FILENAME=Mens-prayer-breakfast.jpg;FMTTYPE=image/jpeg:https://dq5pwp
 g1q8ru0.cloudfront.net/2026/01/09/02/47/42/b684aef5-87a2-43b2-828f-906a4c3
 4f695/Mens-prayer-breakfast.jpg
END:VEVENT
END:VCALENDAR
